BEGIN:VCALENDAR
VERSION:2.0
PRODID:-//wp-events-plugin.com//7.2.3.1//EN
TZID:Europe/London
X-WR-TIMEZONE:Europe/London
BEGIN:VEVENT
UID:2193@morayroadrunners.com
DTSTART;TZID=Europe/London;VALUE=DATE:20220520
DTEND;TZID=Europe/London;VALUE=DATE:20220521
DTSTAMP:20211112T153820Z
URL:https://morayroadrunners.com/events/loch-ness-360-ultra-marathon/
SUMMARY:Loch Ness 360 Ultra Marathon
DESCRIPTION:Information and Entry
CATEGORIES:Ultra Running
LOCATION:Dores\, Inverness\, Dores\, Highland\, IV2\, Scotland
GEO:57.37530599999999;-4.3351410000000214
X-APPLE-STRUCTURED-LOCATION;VALUE=URI;X-ADDRESS=Inverness\, Dores\, Highlan
 d\, IV2\, Scotland;X-APPLE-RADIUS=100;X-TITLE=Dores:geo:57.37530599999999,
 -4.3351410000000214
END:VEVENT
BEGIN:VTIMEZONE
TZID:Europe/London
X-LIC-LOCATION:Europe/London
BEGIN:DAYLIGHT
DTSTART:20220327T020000
TZOFFSETFROM:+0000
TZOFFSETTO:+0100
TZNAME:BST
END:DAYLIGHT
END:VTIMEZONE
END:VCALENDAR