BEGIN:VCALENDAR
VERSION:2.0
PRODID:-//wp-events-plugin.com//7.2.3.1//EN
TZID:Europe/London
X-WR-TIMEZONE:Europe/London
BEGIN:VEVENT
UID:3211@morayroadrunners.com
DTSTART;TZID=Europe/London:20230603T090000
DTEND;TZID=Europe/London:20230603T133000
DTSTAMP:20230502T135318Z
URL:https://morayroadrunners.com/events/longside-loop-10-miles-and-junior-
 mile-2/
SUMMARY:Longside Loop 10 miles and Junior mile
DESCRIPTION:entry and Information
CATEGORIES:Road Running
END:VEVENT
BEGIN:VTIMEZONE
TZID:Europe/London
X-LIC-LOCATION:Europe/London
BEGIN:DAYLIGHT
DTSTART:20230326T020000
TZOFFSETFROM:+0000
TZOFFSETTO:+0100
TZNAME:BST
END:DAYLIGHT
END:VTIMEZONE
END:VCALENDAR