BEGIN:VCALENDAR
VERSION:2.0
PRODID:-//wp-events-plugin.com//7.2.3.1//EN
TZID:Europe/London
X-WR-TIMEZONE:Europe/London
BEGIN:VEVENT
UID:1463@morayroadrunners.com
DTSTART;TZID=Europe/London:20260502T110000
DTEND;TZID=Europe/London:20260502T160000
DTSTAMP:20260301T213401Z
URL:https://morayroadrunners.com/events/longside-loop-10-miles-and-junior-
 mile/
SUMMARY:Longside Loop 10 miles and Junior mile
DESCRIPTION:Information and Entry
CATEGORIES:Road Running
LOCATION:Longside Parish Church Hall\, 12 Cooper's Brae\, Longside\, Aberde
 enshire\, AB42 4TN\, Scotland
GEO:57.5158429;-1.9391941000000088
X-APPLE-STRUCTURED-LOCATION;VALUE=URI;X-ADDRESS=12 Cooper's Brae\, Longside
 \, Aberdeenshire\, AB42 4TN\, Scotland;X-APPLE-RADIUS=100;X-TITLE=Longside
  Parish Church Hall:geo:57.5158429,-1.9391941000000088
END:VEVENT
BEGIN:VTIMEZONE
TZID:Europe/London
X-LIC-LOCATION:Europe/London
BEGIN:DAYLIGHT
DTSTART:20260329T020000
TZOFFSETFROM:+0000
TZOFFSETTO:+0100
TZNAME:BST
END:DAYLIGHT
END:VTIMEZONE
END:VCALENDAR