BEGIN:VCALENDAR
VERSION:2.0
PRODID:-//wp-events-plugin.com//7.2.3.1//EN
TZID:Europe/London
X-WR-TIMEZONE:Europe/London
BEGIN:VEVENT
UID:2759@morayroadrunners.com
DTSTART;TZID=Europe/London:20240104T094500
DTEND;TZID=Europe/London:20240104T110000
DTSTAMP:20231223T181822Z
URL:https://morayroadrunners.com/events/lossie-east-beach-george-and-carol
 -training/
SUMMARY:Lossie Beach Session (George and Carol Training)
DESCRIPTION:
CATEGORIES:Training
END:VEVENT
BEGIN:VTIMEZONE
TZID:Europe/London
X-LIC-LOCATION:Europe/London
BEGIN:STANDARD
DTSTART:20231029T010000
TZOFFSETFROM:+0100
TZOFFSETTO:+0000
TZNAME:GMT
END:STANDARD
END:VTIMEZONE
END:VCALENDAR