BEGIN:VCALENDAR
VERSION:2.0
PRODID:-//wp-events-plugin.com//7.2.3.1//EN
TZID:Europe/London
X-WR-TIMEZONE:Europe/London
BEGIN:VEVENT
UID:1271@morayroadrunners.com
DTSTART;TZID=Europe/London:20190720T100000
DTEND;TZID=Europe/London:20190720T114500
DTSTAMP:20190613T134400Z
URL:https://morayroadrunners.com/events/lossiemouth-windswept-brewery-trai
 l-run-and-tasting-2/
SUMMARY:Lossiemouth Windswept Brewery Trail Run and Tasting
DESCRIPTION:Information and Entry
CATEGORIES:Trail Running
LOCATION:Windswept Brewery Tap Room\, 13 Coulardbank\, Lossiemouth\, Moray\
 , IV31 6NG\, Scotland
X-APPLE-STRUCTURED-LOCATION;VALUE=URI;X-ADDRESS=13 Coulardbank\, Lossiemout
 h\, Moray\, IV31 6NG\, Scotland;X-APPLE-RADIUS=100;X-TITLE=Windswept Brewe
 ry Tap Room:geo:0,0
END:VEVENT
BEGIN:VTIMEZONE
TZID:Europe/London
X-LIC-LOCATION:Europe/London
BEGIN:DAYLIGHT
DTSTART:20190331T020000
TZOFFSETFROM:+0000
TZOFFSETTO:+0100
TZNAME:BST
END:DAYLIGHT
END:VTIMEZONE
END:VCALENDAR