BEGIN:VCALENDAR
VERSION:2.0
PRODID:-//wp-events-plugin.com//7.2.3.1//EN
TZID:Europe/London
X-WR-TIMEZONE:Europe/London
BEGIN:VEVENT
UID:3195@morayroadrunners.com
DTSTART;TZID=Europe/London:20250823T220000
DTEND;TZID=Europe/London:20250824T020000
DTSTAMP:20250528T204103Z
URL:https://morayroadrunners.com/events/maggies-highlands-run-the-runway-2
 023/
SUMMARY:Maggie's Highlands Run the Runway 2025
DESCRIPTION:Information and Entry
CATEGORIES:Road Running
LOCATION:Inverness Airport\, Dalcross\, Inverness\, IV2 7JB\, Scotland
X-APPLE-STRUCTURED-LOCATION;VALUE=URI;X-ADDRESS=Dalcross\, Inverness\, IV2 
 7JB\, Scotland;X-APPLE-RADIUS=100;X-TITLE=Inverness Airport:geo:0,0
END:VEVENT
BEGIN:VTIMEZONE
TZID:Europe/London
X-LIC-LOCATION:Europe/London
BEGIN:DAYLIGHT
DTSTART:20250330T020000
TZOFFSETFROM:+0000
TZOFFSETTO:+0100
TZNAME:BST
END:DAYLIGHT
END:VTIMEZONE
END:VCALENDAR