BEGIN:VCALENDAR
VERSION:2.0
PRODID:-//wp-events-plugin.com//7.2.3.1//EN
TZID:Europe/London
X-WR-TIMEZONE:Europe/London
BEGIN:VEVENT
UID:1202@morayroadrunners.com
DTSTART;TZID=Europe/London:20190317T093000
DTEND;TZID=Europe/London:20190317T160000
DTSTAMP:20190225T134035Z
URL:https://morayroadrunners.com/events/man-v-horse-scotland/
SUMMARY:Man V Horse Scotland
DESCRIPTION:Information and Entry
CATEGORIES:Trail Running
LOCATION:Drummond Farm\, Dores\, Inverness\, IV2 6TX\, Scotland
GEO:57.3494788;-4.353852299999971
X-APPLE-STRUCTURED-LOCATION;VALUE=URI;X-ADDRESS=Dores\, Inverness\, IV2 6TX
 \, Scotland;X-APPLE-RADIUS=100;X-TITLE=Drummond Farm:geo:57.3494788,-4.353
 852299999971
END:VEVENT
BEGIN:VTIMEZONE
TZID:Europe/London
X-LIC-LOCATION:Europe/London
BEGIN:STANDARD
DTSTART:20181028T010000
TZOFFSETFROM:+0100
TZOFFSETTO:+0000
TZNAME:GMT
END:STANDARD
END:VTIMEZONE
END:VCALENDAR