BEGIN:VCALENDAR
VERSION:2.0
PRODID:-//wp-events-plugin.com//7.2.3.1//EN
TZID:Europe/London
X-WR-TIMEZONE:Europe/London
BEGIN:VEVENT
UID:4373@morayroadrunners.com
DTSTART;TZID=Europe/London:20260926T120000
DTEND;TZID=Europe/London:20260926T170000
DTSTAMP:20260120T215435Z
URL:https://morayroadrunners.com/events/meall-abhuachaille/
SUMMARY:MEALL A'BHUACHAILLE
DESCRIPTION:Information and Entry
CATEGORIES:Hill Races
LOCATION:Badaguish Outdoor Centre\, Badaguish\, Aviemore\, PH22 1QU\, Scotl
 and
GEO:57.176513;-3.7368659999999636
X-APPLE-STRUCTURED-LOCATION;VALUE=URI;X-ADDRESS=Badaguish\, Aviemore\, PH22
  1QU\, Scotland;X-APPLE-RADIUS=100;X-TITLE=Badaguish Outdoor Centre:geo:57
 .176513,-3.7368659999999636
END:VEVENT
BEGIN:VTIMEZONE
TZID:Europe/London
X-LIC-LOCATION:Europe/London
BEGIN:DAYLIGHT
DTSTART:20260329T020000
TZOFFSETFROM:+0000
TZOFFSETTO:+0100
TZNAME:BST
END:DAYLIGHT
END:VTIMEZONE
END:VCALENDAR