BEGIN:VCALENDAR
VERSION:2.0
PRODID:-//wp-events-plugin.com//7.2.3.1//EN
TZID:Europe/London
X-WR-TIMEZONE:Europe/London
BEGIN:VEVENT
UID:941@morayroadrunners.com
DTSTART;TZID=Europe/London:20171216T100000
DTEND;TZID=Europe/London:20171216T120000
DTSTAMP:20171109T175107Z
URL:https://morayroadrunners.com/events/mince-pie-relaysjunior-prizegiving
 /
SUMMARY:Mince Pie Relays/Junior Prizegiving
DESCRIPTION:
CATEGORIES:Road Running
LOCATION:Bishopmill Primary School\, Morristion Road\, Elgin\, IV30 4DY\, S
 cotland
GEO:57.65276389999999;-3.331740800000034
X-APPLE-STRUCTURED-LOCATION;VALUE=URI;X-ADDRESS=Morristion Road\, Elgin\, I
 V30 4DY\, Scotland;X-APPLE-RADIUS=100;X-TITLE=Bishopmill Primary School:ge
 o:57.65276389999999,-3.331740800000034
END:VEVENT
BEGIN:VTIMEZONE
TZID:Europe/London
X-LIC-LOCATION:Europe/London
BEGIN:STANDARD
DTSTART:20171029T010000
TZOFFSETFROM:+0100
TZOFFSETTO:+0000
TZNAME:GMT
END:STANDARD
END:VTIMEZONE
END:VCALENDAR