BEGIN:VCALENDAR
VERSION:2.0
PRODID:-//wp-events-plugin.com//7.2.3.1//EN
TZID:Europe/London
X-WR-TIMEZONE:Europe/London
BEGIN:VEVENT
UID:2428@morayroadrunners.com
DTSTART;TZID=Europe/London:20240718T180000
DTEND;TZID=Europe/London:20240718T210000
DTSTAMP:20240606T212722Z
URL:https://morayroadrunners.com/events/mither-tap-race/
SUMMARY:Mither Tap Race
DESCRIPTION:Info and Entry
CATEGORIES:Hill Races
LOCATION:The Bennachie Visitor Centre\, Pitcaple\, Inverurie\, AB51 5HY\, S
 cotland
X-APPLE-STRUCTURED-LOCATION;VALUE=URI;X-ADDRESS=Pitcaple\, Inverurie\, AB51
  5HY\, Scotland;X-APPLE-RADIUS=100;X-TITLE=The Bennachie Visitor Centre:ge
 o:0,0
END:VEVENT
BEGIN:VTIMEZONE
TZID:Europe/London
X-LIC-LOCATION:Europe/London
BEGIN:DAYLIGHT
DTSTART:20240331T020000
TZOFFSETFROM:+0000
TZOFFSETTO:+0100
TZNAME:BST
END:DAYLIGHT
END:VTIMEZONE
END:VCALENDAR