BEGIN:VCALENDAR
VERSION:2.0
PRODID:-//wp-events-plugin.com//7.2.3.1//EN
TZID:Europe/London
X-WR-TIMEZONE:Europe/London
BEGIN:VEVENT
UID:1045@morayroadrunners.com
DTSTART;TZID=Europe/London:20180509T181500
DTEND;TZID=Europe/London:20180509T200000
DTSTAMP:20180403T213651Z
URL:https://morayroadrunners.com/events/monaughty-forest-run-4/
SUMMARY:Monaughty Forest Run
DESCRIPTION:Registration 6:15pm\n\nEntry £5\n\n&nbsp\;
CATEGORIES:Trail Running
LOCATION:Torrieston Forest\, Picnic Spot\, Monaughty\, IV30 8TJ\, United Ki
 ngdom
GEO:57.62461339999999;-3.3783846999999696
X-APPLE-STRUCTURED-LOCATION;VALUE=URI;X-ADDRESS=Picnic Spot\, Monaughty\, I
 V30 8TJ\, United Kingdom;X-APPLE-RADIUS=100;X-TITLE=Torrieston Forest:geo:
 57.62461339999999,-3.3783846999999696
END:VEVENT
BEGIN:VTIMEZONE
TZID:Europe/London
X-LIC-LOCATION:Europe/London
BEGIN:DAYLIGHT
DTSTART:20180325T020000
TZOFFSETFROM:+0000
TZOFFSETTO:+0100
TZNAME:BST
END:DAYLIGHT
END:VTIMEZONE
END:VCALENDAR