BEGIN:VCALENDAR
VERSION:2.0
PRODID:-//wp-events-plugin.com//7.2.3.1//EN
TZID:Europe/London
X-WR-TIMEZONE:Europe/London
BEGIN:VEVENT
UID:3529@morayroadrunners.com
DTSTART;TZID=Europe/London;VALUE=DATE:20260627
DTEND;TZID=Europe/London;VALUE=DATE:20260629
DTSTAMP:20250726T073510Z
URL:https://morayroadrunners.com/events/moray-way-100-relay-3/
SUMMARY:Moray Way 100 & Relay
DESCRIPTION:Information
CATEGORIES:Ultra Running
END:VEVENT
BEGIN:VTIMEZONE
TZID:Europe/London
X-LIC-LOCATION:Europe/London
BEGIN:DAYLIGHT
DTSTART:20260329T020000
TZOFFSETFROM:+0000
TZOFFSETTO:+0100
TZNAME:BST
END:DAYLIGHT
END:VTIMEZONE
END:VCALENDAR