BEGIN:VCALENDAR
VERSION:2.0
PRODID:-//wp-events-plugin.com//7.2.3.1//EN
TZID:Europe/London
X-WR-TIMEZONE:Europe/London
BEGIN:VEVENT
UID:2111@morayroadrunners.com
DTSTART;TZID=Europe/London:20260816T100000
DTEND;TZID=Europe/London:20260816T150000
DTSTAMP:20260322T151715Z
URL:https://morayroadrunners.com/events/mormond-hill-run/
SUMMARY:Mormond Hill Run
DESCRIPTION:Entry and Information\n\n&nbsp\;
CATEGORIES:Hill Races
LOCATION:Ritchie Hall\, Sleigh Cresent\, Strichen\, AB43 6TY\, Scotland
X-APPLE-STRUCTURED-LOCATION;VALUE=URI;X-ADDRESS=Sleigh Cresent\, Strichen\,
  AB43 6TY\, Scotland;X-APPLE-RADIUS=100;X-TITLE=Ritchie Hall:geo:0,0
END:VEVENT
BEGIN:VTIMEZONE
TZID:Europe/London
X-LIC-LOCATION:Europe/London
BEGIN:DAYLIGHT
DTSTART:20260329T020000
TZOFFSETFROM:+0000
TZOFFSETTO:+0100
TZNAME:BST
END:DAYLIGHT
END:VTIMEZONE
END:VCALENDAR