BEGIN:VCALENDAR
VERSION:2.0
PRODID:-//wp-events-plugin.com//7.2.3.1//EN
TZID:Europe/London
X-WR-TIMEZONE:Europe/London
BEGIN:VEVENT
UID:1459@morayroadrunners.com
DTSTART;TZID=Europe/London;VALUE=DATE:20200607
DTEND;TZID=Europe/London;VALUE=DATE:20200608
DTSTAMP:20200117T180718Z
URL:https://morayroadrunners.com/events/motorfun-5-mile-run/
SUMMARY:Motorfun 5 Mile Run
DESCRIPTION:This is part of the Rotary Motorfun\, details will follow and y
 ou will find information on the Rotary website
CATEGORIES:Road Running
LOCATION:Cooper Park\, Cooper Park\, Elgin\, IV30 1HS\, Scotland
X-APPLE-STRUCTURED-LOCATION;VALUE=URI;X-ADDRESS=Cooper Park\, Elgin\, IV30 
 1HS\, Scotland;X-APPLE-RADIUS=100;X-TITLE=Cooper Park:geo:0,0
END:VEVENT
BEGIN:VTIMEZONE
TZID:Europe/London
X-LIC-LOCATION:Europe/London
BEGIN:DAYLIGHT
DTSTART:20200329T020000
TZOFFSETFROM:+0000
TZOFFSETTO:+0100
TZNAME:BST
END:DAYLIGHT
END:VTIMEZONE
END:VCALENDAR