BEGIN:VCALENDAR
VERSION:2.0
PRODID:-//wp-events-plugin.com//7.2.3.1//EN
TZID:Europe/London
X-WR-TIMEZONE:Europe/London
BEGIN:VEVENT
UID:3218@morayroadrunners.com
DTSTART;TZID=Europe/London:20230909T100000
DTEND;TZID=Europe/London:20230909T120000
DTSTAMP:20230518T211915Z
URL:https://morayroadrunners.com/events/newmachar-10k/
SUMMARY:Newmachar 10k
DESCRIPTION:Entry and Information
CATEGORIES:Road Running
LOCATION:Charles Gordon Park\, Newmachar\, Aberdeen\, AB21 0QD\, Scotland
GEO:57.2699277;-2.1938182999999754
X-APPLE-STRUCTURED-LOCATION;VALUE=URI;X-ADDRESS=Newmachar\, Aberdeen\, AB21
  0QD\, Scotland;X-APPLE-RADIUS=100;X-TITLE=Charles Gordon Park:geo:57.2699
 277,-2.1938182999999754
END:VEVENT
BEGIN:VTIMEZONE
TZID:Europe/London
X-LIC-LOCATION:Europe/London
BEGIN:DAYLIGHT
DTSTART:20230326T020000
TZOFFSETFROM:+0000
TZOFFSETTO:+0100
TZNAME:BST
END:DAYLIGHT
END:VTIMEZONE
END:VCALENDAR