BEGIN:VCALENDAR
VERSION:2.0
PRODID:-//wp-events-plugin.com//7.2.3.1//EN
TZID:Europe/London
X-WR-TIMEZONE:Europe/London
BEGIN:VEVENT
UID:1001@morayroadrunners.com
DTSTART;TZID=Europe/London:20180908T090000
DTEND;TZID=Europe/London:20180908T140000
DTSTAMP:20180227T212440Z
URL:https://morayroadrunners.com/events/newmachar-10km-2/
SUMMARY:Newmachar 10km
DESCRIPTION:We are pleased to announce that the Newmachar 10km race for 201
 8 shall go ahead on the Saturday 8th of September 2018. The event shall be
  a full road closure again\, so if you have a score to settle with our hil
 l look out for the announcement to follow on entry details in the coming m
 onth or so.\n\nWe are working to have the entries open for around the same
  time as last year around the end of May 2018. Entry fee and start time sh
 all be announced nearer to the entry opening date announcement.\n\nIn addi
 tion to this we are also hoping to have the kids races return again this y
 ear and further announcement on this shall be made.\n\nHope to see you all
  at the start line in September.\n\nNewmachar 10k
CATEGORIES:Road Running
LOCATION:Charles Gordon Park\, Newmachar\, Aberdeen\, AB21 0QD\, Scotland
GEO:57.2699277;-2.1938182999999754
X-APPLE-STRUCTURED-LOCATION;VALUE=URI;X-ADDRESS=Newmachar\, Aberdeen\, AB21
  0QD\, Scotland;X-APPLE-RADIUS=100;X-TITLE=Charles Gordon Park:geo:57.2699
 277,-2.1938182999999754
END:VEVENT
BEGIN:VTIMEZONE
TZID:Europe/London
X-LIC-LOCATION:Europe/London
BEGIN:DAYLIGHT
DTSTART:20180325T020000
TZOFFSETFROM:+0000
TZOFFSETTO:+0100
TZNAME:BST
END:DAYLIGHT
END:VTIMEZONE
END:VCALENDAR