BEGIN:VCALENDAR
VERSION:2.0
PRODID:-//wp-events-plugin.com//7.2.3.1//EN
TZID:Europe/London
X-WR-TIMEZONE:Europe/London
BEGIN:VEVENT
UID:3877@morayroadrunners.com
DTSTART;TZID=Europe/London:20240824T093000
DTEND;TZID=Europe/London:20240824T143000
DTSTAMP:20240611T173906Z
URL:https://morayroadrunners.com/events/newmacher-10k/
SUMMARY:Newmacher 10k
DESCRIPTION:Information and Entry
CATEGORIES:Road Running
LOCATION:Charlie Gordons Park\, Football Club\, Newmacher\, Aberdeenshire\,
  Scotland
X-APPLE-STRUCTURED-LOCATION;VALUE=URI;X-ADDRESS=Football Club\, Newmacher\,
  Aberdeenshire\, Scotland;X-APPLE-RADIUS=100;X-TITLE=Charlie Gordons Park:
 geo:0,0
END:VEVENT
BEGIN:VTIMEZONE
TZID:Europe/London
X-LIC-LOCATION:Europe/London
BEGIN:DAYLIGHT
DTSTART:20240331T020000
TZOFFSETFROM:+0000
TZOFFSETTO:+0100
TZNAME:BST
END:DAYLIGHT
END:VTIMEZONE
END:VCALENDAR