BEGIN:VCALENDAR
VERSION:2.0
PRODID:-//wp-events-plugin.com//7.2.3.1//EN
TZID:Europe/London
X-WR-TIMEZONE:Europe/London
BEGIN:VEVENT
UID:3688@morayroadrunners.com
DTSTART;TZID=Europe/London:20230923T103000
DTEND;TZID=Europe/London:20230923T113000
DTSTAMP:20230918T194723Z
URL:https://morayroadrunners.com/events/north-area-training-session-6/
SUMMARY:North Area Training Session
DESCRIPTION:8-12 x 2mins (90 sec rec) tempo\nFirst rep is 10.30am sharp so 
 please be there in plenty of time to warm up.\nMinimum age group for atten
 ding is current Under 15 athletes with no upper limit 
CATEGORIES:Training
LOCATION:Grant Park\, Victoria Road\, Forres\, Scotland
GEO:57.6138456;-3.6012929999999415
X-APPLE-STRUCTURED-LOCATION;VALUE=URI;X-ADDRESS=Victoria Road\, Forres\, Sc
 otland;X-APPLE-RADIUS=100;X-TITLE=Grant Park:geo:57.6138456,-3.60129299999
 99415
END:VEVENT
BEGIN:VTIMEZONE
TZID:Europe/London
X-LIC-LOCATION:Europe/London
BEGIN:DAYLIGHT
DTSTART:20230326T020000
TZOFFSETFROM:+0000
TZOFFSETTO:+0100
TZNAME:BST
END:DAYLIGHT
END:VTIMEZONE
END:VCALENDAR