BEGIN:VCALENDAR
VERSION:2.0
PRODID:-//wp-events-plugin.com//7.2.3.1//EN
TZID:Europe/London
X-WR-TIMEZONE:Europe/London
BEGIN:VEVENT
UID:3689@morayroadrunners.com
DTSTART;TZID=Europe/London:20231111T103000
DTEND;TZID=Europe/London:20231111T113000
DTSTAMP:20230918T194815Z
URL:https://morayroadrunners.com/events/north-area-training-session-7/
SUMMARY:North Area Training Session
DESCRIPTION:6-10 x 4 mins (2 mins rec)\nFirst rep is 10.30am sharp so pleas
 e be there in plenty of time to warm up.\nMinimum age group for attending 
 is current Under 15 athletes with no upper limit 
CATEGORIES:Training
LOCATION:Grant Park\, Victoria Road\, Forres\, Scotland
GEO:57.6138456;-3.6012929999999415
X-APPLE-STRUCTURED-LOCATION;VALUE=URI;X-ADDRESS=Victoria Road\, Forres\, Sc
 otland;X-APPLE-RADIUS=100;X-TITLE=Grant Park:geo:57.6138456,-3.60129299999
 99415
END:VEVENT
BEGIN:VTIMEZONE
TZID:Europe/London
X-LIC-LOCATION:Europe/London
BEGIN:STANDARD
DTSTART:20231029T010000
TZOFFSETFROM:+0100
TZOFFSETTO:+0000
TZNAME:GMT
END:STANDARD
END:VTIMEZONE
END:VCALENDAR