BEGIN:VCALENDAR
VERSION:2.0
PRODID:-//wp-events-plugin.com//7.2.3.1//EN
TZID:Europe/London
X-WR-TIMEZONE:Europe/London
BEGIN:VEVENT
UID:3871@morayroadrunners.com
DTSTART;TZID=Europe/London:20240605T180000
DTEND;TZID=Europe/London:20240605T200000
DTSTAMP:20240531T134215Z
URL:https://morayroadrunners.com/events/north-district-5k-champs/
SUMMARY:Forres Harriers 5k
DESCRIPTION:\nForres Harriers are hosting the ND 5k Champs on Wednesday 5th
  June on closed roads around Forres High Sreet.\n\n\nThe race\, for 16 yea
 rs and above\, will start at 7.10pm.\n\n\nWe will also have 1 mile races f
 or u12 at 6.15pm and 12-15 years at 6.30pm both races with free entry.\n\n
 \nThe 5k will be online entries (details to follow) with entries on day av
 ailable. £7 entry\, £5 for SA affiliated.\nEntry and Information\n\n\n\n
CATEGORIES:Road Running
LOCATION:Community Centre\, High Street\, Forres\, IV36 1BU\, Scotland
X-APPLE-STRUCTURED-LOCATION;VALUE=URI;X-ADDRESS=High Street\, Forres\, IV36
  1BU\, Scotland;X-APPLE-RADIUS=100;X-TITLE=Community Centre:geo:0,0
END:VEVENT
BEGIN:VTIMEZONE
TZID:Europe/London
X-LIC-LOCATION:Europe/London
BEGIN:DAYLIGHT
DTSTART:20240331T020000
TZOFFSETFROM:+0000
TZOFFSETTO:+0100
TZNAME:BST
END:DAYLIGHT
END:VTIMEZONE
END:VCALENDAR