BEGIN:VCALENDAR
VERSION:2.0
PRODID:-//wp-events-plugin.com//7.2.3.1//EN
TZID:Europe/London
X-WR-TIMEZONE:Europe/London
BEGIN:VEVENT
UID:1122@morayroadrunners.com
DTSTART;TZID=Europe/London:20181013T120000
DTEND;TZID=Europe/London:20181013T160000
DTSTAMP:20181002T170333Z
URL:https://morayroadrunners.com/events/north-district-cross-country-relay
 -championships-5/
SUMMARY:North District Cross Country Relay Championships
DESCRIPTION:Information
CATEGORIES:Cross Country
LOCATION:Clune Farm\, Dores\, Dores\, IV2 6DP\, Scotland
GEO:57.37530599999999;-4.3351410000000214
X-APPLE-STRUCTURED-LOCATION;VALUE=URI;X-ADDRESS=Dores\, Dores\, IV2 6DP\, S
 cotland;X-APPLE-RADIUS=100;X-TITLE=Clune Farm:geo:57.37530599999999,-4.335
 1410000000214
END:VEVENT
BEGIN:VTIMEZONE
TZID:Europe/London
X-LIC-LOCATION:Europe/London
BEGIN:DAYLIGHT
DTSTART:20180325T020000
TZOFFSETFROM:+0000
TZOFFSETTO:+0100
TZNAME:BST
END:DAYLIGHT
END:VTIMEZONE
END:VCALENDAR