BEGIN:VCALENDAR
VERSION:2.0
PRODID:-//wp-events-plugin.com//7.2.3.1//EN
TZID:Europe/London
X-WR-TIMEZONE:Europe/London
BEGIN:VEVENT
UID:2129@morayroadrunners.com
DTSTART;TZID=Europe/London:20251011T110000
DTEND;TZID=Europe/London:20251011T160000
DTSTAMP:20250803T211423Z
URL:https://morayroadrunners.com/events/north-district-cross-country-relay
 s/
SUMMARY:Lindsays scottishathletics North District Cross Country Relay Champ
 ionships
DESCRIPTION:Information and Entry
CATEGORIES:Cross Country
LOCATION:Bught Park\, Bught Road\, Inverness\, IV3 5SP\, Scotland
X-APPLE-STRUCTURED-LOCATION;VALUE=URI;X-ADDRESS=Bught Road\, Inverness\, IV
 3 5SP\, Scotland;X-APPLE-RADIUS=100;X-TITLE=Bught Park:geo:0,0
END:VEVENT
BEGIN:VTIMEZONE
TZID:Europe/London
X-LIC-LOCATION:Europe/London
BEGIN:DAYLIGHT
DTSTART:20250330T020000
TZOFFSETFROM:+0000
TZOFFSETTO:+0100
TZNAME:BST
END:DAYLIGHT
END:VTIMEZONE
END:VCALENDAR