BEGIN:VCALENDAR
VERSION:2.0
PRODID:-//wp-events-plugin.com//7.2.3.1//EN
TZID:Europe/London
X-WR-TIMEZONE:Europe/London
BEGIN:VEVENT
UID:1461@morayroadrunners.com
DTSTART;TZID=Europe/London:20251227T103000
DTEND;TZID=Europe/London:20251227T120000
DTSTAMP:20250921T133220Z
URL:https://morayroadrunners.com/events/north-district-training-session/
SUMMARY:North District Training Session
DESCRIPTION:Up to 5 sets of 5 mins (90 sec rec)\, 3 mins (60 sec rec)\, 2 m
 ins (90 sec rec).
CATEGORIES:Training
LOCATION:Grant Park \, High Street\, Forres\, Scotland
GEO:57.60967719999999;-3.6135835000000043
X-APPLE-STRUCTURED-LOCATION;VALUE=URI;X-ADDRESS=High Street\, Forres\, Scot
 land;X-APPLE-RADIUS=100;X-TITLE=Grant Park :geo:57.60967719999999,-3.61358
 35000000043
END:VEVENT
BEGIN:VTIMEZONE
TZID:Europe/London
X-LIC-LOCATION:Europe/London
BEGIN:STANDARD
DTSTART:20251026T010000
TZOFFSETFROM:+0100
TZOFFSETTO:+0000
TZNAME:GMT
END:STANDARD
END:VTIMEZONE
END:VCALENDAR