BEGIN:VCALENDAR
VERSION:2.0
PRODID:-//wp-events-plugin.com//7.2.3.1//EN
TZID:Europe/London
X-WR-TIMEZONE:Europe/London
BEGIN:VEVENT
UID:1125@morayroadrunners.com
DTSTART;TZID=Europe/London:20251102T093000
DTEND;TZID=Europe/London:20251102T140000
DTSTAMP:20250801T134536Z
URL:https://morayroadrunners.com/events/peterhead-10km-4/
SUMMARY:Peterhead 10km incorporating North District 10k Championships
DESCRIPTION:Information and Entry
CATEGORIES:Road Running
LOCATION:Catto Park Sports Pavilion\, Balmoor Terrace\, Peterhead\, Aberdee
 nshire\, AB42 1EP\, Scotland
X-APPLE-STRUCTURED-LOCATION;VALUE=URI;X-ADDRESS=Balmoor Terrace\, Peterhead
 \, Aberdeenshire\, AB42 1EP\, Scotland;X-APPLE-RADIUS=100;X-TITLE=Catto Pa
 rk Sports Pavilion:geo:0,0
END:VEVENT
BEGIN:VTIMEZONE
TZID:Europe/London
X-LIC-LOCATION:Europe/London
BEGIN:STANDARD
DTSTART:20251026T010000
TZOFFSETFROM:+0100
TZOFFSETTO:+0000
TZNAME:GMT
END:STANDARD
END:VTIMEZONE
END:VCALENDAR