BEGIN:VCALENDAR
VERSION:2.0
PRODID:-//wp-events-plugin.com//7.2.3.1//EN
TZID:Europe/London
X-WR-TIMEZONE:Europe/London
BEGIN:VEVENT
UID:3210@morayroadrunners.com
DTSTART;TZID=Europe/London:20230527T110000
DTEND;TZID=Europe/London:20230527T120000
DTSTAMP:20230502T134824Z
URL:https://morayroadrunners.com/events/peterhead-athletics-club-3k/
SUMMARY:Peterhead Athletics Club 3K
DESCRIPTION:Entry and Information
CATEGORIES:Road Running
LOCATION:Peterhead Lido\, South Road\, Peterhead\, Scotland
X-APPLE-STRUCTURED-LOCATION;VALUE=URI;X-ADDRESS=South Road\, Peterhead\, Sc
 otland;X-APPLE-RADIUS=100;X-TITLE=Peterhead Lido:geo:0,0
END:VEVENT
BEGIN:VTIMEZONE
TZID:Europe/London
X-LIC-LOCATION:Europe/London
BEGIN:DAYLIGHT
DTSTART:20230326T020000
TZOFFSETFROM:+0000
TZOFFSETTO:+0100
TZNAME:BST
END:DAYLIGHT
END:VTIMEZONE
END:VCALENDAR