BEGIN:VCALENDAR
VERSION:2.0
PRODID:-//wp-events-plugin.com//7.2.3.1//EN
TZID:Europe/London
X-WR-TIMEZONE:Europe/London
BEGIN:VEVENT
UID:3212@morayroadrunners.com
DTSTART;TZID=Europe/London:20230714T180000
DTEND;TZID=Europe/London:20230714T200000
DTSTAMP:20230502T135241Z
URL:https://morayroadrunners.com/events/peterhead-summer-5k/
SUMMARY:Peterhead Summer 5k
DESCRIPTION:Entry and Information
CATEGORIES:Road Running
END:VEVENT
BEGIN:VTIMEZONE
TZID:Europe/London
X-LIC-LOCATION:Europe/London
BEGIN:DAYLIGHT
DTSTART:20230326T020000
TZOFFSETFROM:+0000
TZOFFSETTO:+0100
TZNAME:BST
END:DAYLIGHT
END:VTIMEZONE
END:VCALENDAR