BEGIN:VCALENDAR
VERSION:2.0
PRODID:-//wp-events-plugin.com//7.2.3.1//EN
TZID:Europe/London
X-WR-TIMEZONE:Europe/London
BEGIN:VEVENT
UID:994@morayroadrunners.com
DTSTART;TZID=Europe/London:20180516T190000
DTEND;TZID=Europe/London:20180516T200000
DTSTAMP:20180211T222014Z
URL:https://morayroadrunners.com/events/pinto-run-1-of-3-3/
SUMMARY:Pinto Run (1 of 3)
DESCRIPTION:Pinto Run\n\nUsual venue of registering outside Cooper park lib
 rary from 6:15pm with a 7 pm race start\nRace £2 entry fee for all\nAge 6
  to whenever!\n\nThis is a 3km run.\n\nEntry is on the night
ATTACH;FMTTYPE=image/jpeg:https://i0.wp.com/morayroadrunners.com/o/wp-cont
 ent/uploads/2017/01/Pinto.jpg?fit=960%2C628&ssl=1
CATEGORIES:Road Running
LOCATION:Elgin Library\, Cooper Park\, Elgin\, Scotland
GEO:57.6525214;-3.3118057000000363
X-APPLE-STRUCTURED-LOCATION;VALUE=URI;X-ADDRESS=Cooper Park\, Elgin\, Scotl
 and;X-APPLE-RADIUS=100;X-TITLE=Elgin Library:geo:57.6525214,-3.31180570000
 00363
END:VEVENT
BEGIN:VTIMEZONE
TZID:Europe/London
X-LIC-LOCATION:Europe/London
BEGIN:DAYLIGHT
DTSTART:20180325T020000
TZOFFSETFROM:+0000
TZOFFSETTO:+0100
TZNAME:BST
END:DAYLIGHT
END:VTIMEZONE
END:VCALENDAR