BEGIN:VCALENDAR
VERSION:2.0
PRODID:-//wp-events-plugin.com//7.2.3.1//EN
TZID:Europe/London
X-WR-TIMEZONE:Europe/London
BEGIN:VEVENT
UID:984@morayroadrunners.com
DTSTART;TZID=Europe/London:20180701T083000
DTEND;TZID=Europe/London:20180701T133000
DTSTAMP:20180106T153943Z
URL:https://morayroadrunners.com/events/portsoy-10km-and-fun-run-2/
SUMMARY:Portsoy 10km and fun run
DESCRIPTION:Information
CATEGORIES:Road Running
LOCATION:Recreation Park\, Seafield Terrace\, Portsoy\, AB45 2QB\, Scotland
GEO:57.68055499999999;-2.694571799999949
X-APPLE-STRUCTURED-LOCATION;VALUE=URI;X-ADDRESS=Seafield Terrace\, Portsoy\
 , AB45 2QB\, Scotland;X-APPLE-RADIUS=100;X-TITLE=Recreation Park:geo:57.68
 055499999999,-2.694571799999949
END:VEVENT
BEGIN:VTIMEZONE
TZID:Europe/London
X-LIC-LOCATION:Europe/London
BEGIN:DAYLIGHT
DTSTART:20180325T020000
TZOFFSETFROM:+0000
TZOFFSETTO:+0100
TZNAME:BST
END:DAYLIGHT
END:VTIMEZONE
END:VCALENDAR