BEGIN:VCALENDAR
VERSION:2.0
PRODID:-//wp-events-plugin.com//7.2.3.1//EN
TZID:Europe/London
X-WR-TIMEZONE:Europe/London
BEGIN:VEVENT
UID:1048@morayroadrunners.com
DTSTART;TZID=Europe/London:20260527T180000
DTEND;TZID=Europe/London:20260527T194500
DTSTAMP:20260324T141304Z
URL:https://morayroadrunners.com/events/quarrelwood-forest-run-4/
SUMMARY:Quarrelwood Forest Run
DESCRIPTION:[caption id="attachment_16368" align="alignleft" width="1170"] 
 Screenshot[/caption]\n\n&nbsp\;\n\n&nbsp\;
CATEGORIES:Trail Running
LOCATION:Spynie Village Hall\, Elgin\, Elgin\, IV30 8XU\, Scotland
GEO:57.6595684;-3.3750343000000385
X-APPLE-STRUCTURED-LOCATION;VALUE=URI;X-ADDRESS=Elgin\, Elgin\, IV30 8XU\, 
 Scotland;X-APPLE-RADIUS=100;X-TITLE=Spynie Village Hall:geo:57.6595684,-3.
 3750343000000385
END:VEVENT
BEGIN:VTIMEZONE
TZID:Europe/London
X-LIC-LOCATION:Europe/London
BEGIN:DAYLIGHT
DTSTART:20260329T020000
TZOFFSETFROM:+0000
TZOFFSETTO:+0100
TZNAME:BST
END:DAYLIGHT
END:VTIMEZONE
END:VCALENDAR