BEGIN:VCALENDAR
VERSION:2.0
PRODID:-//wp-events-plugin.com//7.2.3.1//EN
TZID:Europe/London
X-WR-TIMEZONE:Europe/London
BEGIN:VEVENT
UID:3693@morayroadrunners.com
DTSTART;TZID=Europe/London:20250329T103000
DTEND;TZID=Europe/London:20250329T153000
DTSTAMP:20241029T091226Z
URL:https://morayroadrunners.com/events/race-dunvegan-10k-5k-walking-5k-fu
 n-run/
SUMMARY:Race Dunvegan - 10k\, 5k\, Walking 5k & Fun Run
DESCRIPTION:Info and Entry
CATEGORIES:Trail Running
LOCATION:Dunvegan Castle\, Isle of Skye\, Dunvegan\, iv55 8wf\, Scotland
X-APPLE-STRUCTURED-LOCATION;VALUE=URI;X-ADDRESS=Isle of Skye\, Dunvegan\, i
 v55 8wf\, Scotland;X-APPLE-RADIUS=100;X-TITLE=Dunvegan Castle:geo:0,0
END:VEVENT
BEGIN:VTIMEZONE
TZID:Europe/London
X-LIC-LOCATION:Europe/London
BEGIN:STANDARD
DTSTART:20241027T010000
TZOFFSETFROM:+0100
TZOFFSETTO:+0000
TZNAME:GMT
END:STANDARD
END:VTIMEZONE
END:VCALENDAR