BEGIN:VCALENDAR
VERSION:2.0
PRODID:-//wp-events-plugin.com//7.2.3.1//EN
TZID:Europe/London
X-WR-TIMEZONE:Europe/London
BEGIN:VEVENT
UID:3870@morayroadrunners.com
DTSTART;TZID=Europe/London:20240602T080000
DTEND;TZID=Europe/London:20240602T140000
DTSTAMP:20240401T210812Z
URL:https://morayroadrunners.com/events/rattray-blair-half-marathon-and-10
 k-races/
SUMMARY:Rattray Blair Half Marathon and 10K Races
DESCRIPTION:Entry and Information
CATEGORIES:Road Running
LOCATION:Rattray Primary School Community Connect\, High Street\, Rattray B
 lairgowrie\, PH10 7DG\, Scotland
X-APPLE-STRUCTURED-LOCATION;VALUE=URI;X-ADDRESS=High Street\, Rattray Blair
 gowrie\, PH10 7DG\, Scotland;X-APPLE-RADIUS=100;X-TITLE=Rattray Primary Sc
 hool Community Connect:geo:0,0
END:VEVENT
BEGIN:VTIMEZONE
TZID:Europe/London
X-LIC-LOCATION:Europe/London
BEGIN:DAYLIGHT
DTSTART:20240331T020000
TZOFFSETFROM:+0000
TZOFFSETTO:+0100
TZNAME:BST
END:DAYLIGHT
END:VTIMEZONE
END:VCALENDAR