BEGIN:VCALENDAR
VERSION:2.0
PRODID:-//wp-events-plugin.com//7.2.3.1//EN
TZID:Europe/London
X-WR-TIMEZONE:Europe/London
BEGIN:VEVENT
UID:2430@morayroadrunners.com
DTSTART;TZID=Europe/London:20230506T090000
DTEND;TZID=Europe/London:20230506T170000
DTSTAMP:20220604T074632Z
URL:https://morayroadrunners.com/events/road-to-the-isles-festival-of-runn
 ing/
SUMMARY:Road to the Isles Festival of Running
DESCRIPTION:Info and Entry
CATEGORIES:Road Running
LOCATION:Road to the Isles\, Arisaig Village\, Arisaig\, Scotland
X-APPLE-STRUCTURED-LOCATION;VALUE=URI;X-ADDRESS=Arisaig Village\, Arisaig\,
  Scotland;X-APPLE-RADIUS=100;X-TITLE=Road to the Isles:geo:0,0
END:VEVENT
BEGIN:VTIMEZONE
TZID:Europe/London
X-LIC-LOCATION:Europe/London
BEGIN:DAYLIGHT
DTSTART:20230326T020000
TZOFFSETFROM:+0000
TZOFFSETTO:+0100
TZNAME:BST
END:DAYLIGHT
END:VTIMEZONE
END:VCALENDAR