BEGIN:VCALENDAR
VERSION:2.0
PRODID:-//wp-events-plugin.com//7.2.3.1//EN
TZID:Europe/London
X-WR-TIMEZONE:Europe/London
BEGIN:VEVENT
UID:1049@morayroadrunners.com
DTSTART;TZID=Europe/London:20260610T180000
DTEND;TZID=Europe/London:20260610T194500
DTSTAMP:20260324T141333Z
URL:https://morayroadrunners.com/events/roseisle-forest-run-4/
SUMMARY:Roseisle Forest Run
DESCRIPTION:[caption id="attachment_16368" align="alignleft" width="1170"] 
 Screenshot[/caption]\n\n&nbsp\;
CATEGORIES:Trail Running
LOCATION:Roseisle Forest Run\, Roseisle Forest Picnic Site\, Roseisle\, IV3
 6 2UB\, United Kingdom
GEO:57.6524966;-3.5008172999999942
X-APPLE-STRUCTURED-LOCATION;VALUE=URI;X-ADDRESS=Roseisle Forest Picnic Site
 \, Roseisle\, IV36 2UB\, United Kingdom;X-APPLE-RADIUS=100;X-TITLE=Roseisl
 e Forest Run:geo:57.6524966,-3.5008172999999942
END:VEVENT
BEGIN:VTIMEZONE
TZID:Europe/London
X-LIC-LOCATION:Europe/London
BEGIN:DAYLIGHT
DTSTART:20260329T020000
TZOFFSETFROM:+0000
TZOFFSETTO:+0100
TZNAME:BST
END:DAYLIGHT
END:VTIMEZONE
END:VCALENDAR