BEGIN:VCALENDAR
VERSION:2.0
PRODID:-//wp-events-plugin.com//7.2.3.1//EN
TZID:Europe/London
X-WR-TIMEZONE:Europe/London
BEGIN:VEVENT
UID:2429@morayroadrunners.com
DTSTART;TZID=Europe/London:20240810T123000
DTEND;TZID=Europe/London:20240810T170000
DTSTAMP:20240503T205558Z
URL:https://morayroadrunners.com/events/rspb-abernethy-10-mile-road-race/
SUMMARY:RSPB Abernethy 10 Mile Road Race
DESCRIPTION:
CATEGORIES:Road Running
LOCATION:Games Field\, Highland Games\, Nethy Bridge\, PH25 3DA\, Scotland
X-APPLE-STRUCTURED-LOCATION;VALUE=URI;X-ADDRESS=Highland Games\, Nethy Brid
 ge\, PH25 3DA\, Scotland;X-APPLE-RADIUS=100;X-TITLE=Games Field:geo:0,0
END:VEVENT
BEGIN:VTIMEZONE
TZID:Europe/London
X-LIC-LOCATION:Europe/London
BEGIN:DAYLIGHT
DTSTART:20240331T020000
TZOFFSETFROM:+0000
TZOFFSETTO:+0100
TZNAME:BST
END:DAYLIGHT
END:VTIMEZONE
END:VCALENDAR