BEGIN:VCALENDAR
VERSION:2.0
PRODID:-//wp-events-plugin.com//7.2.3.1//EN
TZID:Europe/London
X-WR-TIMEZONE:Europe/London
BEGIN:VEVENT
UID:1080@morayroadrunners.com
DTSTART;TZID=Europe/London:20181006T120000
DTEND;TZID=Europe/London:20181006T170000
DTSTAMP:20180707T172905Z
URL:https://morayroadrunners.com/events/run-4-it-north-district-cross-coun
 try-league-keith/
SUMMARY:Run 4 It North District Cross Country League - Keith
DESCRIPTION:Information
CATEGORIES:Cross Country
LOCATION:Industrial Estate\, Westerton Road\, Keith\, AB55 5EP\, Moray\, Sc
 otland
GEO:57.54115269999999;-2.9436822999999777
X-APPLE-STRUCTURED-LOCATION;VALUE=URI;X-ADDRESS=Westerton Road\, Keith\, AB
 55 5EP\, Moray\, Scotland;X-APPLE-RADIUS=100;X-TITLE=Industrial Estate:geo
 :57.54115269999999,-2.9436822999999777
END:VEVENT
BEGIN:VTIMEZONE
TZID:Europe/London
X-LIC-LOCATION:Europe/London
BEGIN:DAYLIGHT
DTSTART:20180325T020000
TZOFFSETFROM:+0000
TZOFFSETTO:+0100
TZNAME:BST
END:DAYLIGHT
END:VTIMEZONE
END:VCALENDAR