BEGIN:VCALENDAR
VERSION:2.0
PRODID:-//wp-events-plugin.com//7.2.3.1//EN
TZID:Europe/London
X-WR-TIMEZONE:Europe/London
BEGIN:VEVENT
UID:1083@morayroadrunners.com
DTSTART;TZID=Europe/London:20190126T120000
DTEND;TZID=Europe/London:20190126T170000
DTSTAMP:20180707T173722Z
URL:https://morayroadrunners.com/events/run-4-it-north-district-cross-coun
 try-league-race-forres/
SUMMARY:RUN 4 IT North District Cross Country League Race - Forres
DESCRIPTION:Information
CATEGORIES:Cross Country
LOCATION:Grant Park \, High Street\, Forres\, Scotland
GEO:57.60967719999999;-3.6135835000000043
X-APPLE-STRUCTURED-LOCATION;VALUE=URI;X-ADDRESS=High Street\, Forres\, Scot
 land;X-APPLE-RADIUS=100;X-TITLE=Grant Park :geo:57.60967719999999,-3.61358
 35000000043
END:VEVENT
BEGIN:VTIMEZONE
TZID:Europe/London
X-LIC-LOCATION:Europe/London
BEGIN:STANDARD
DTSTART:20181028T010000
TZOFFSETFROM:+0100
TZOFFSETTO:+0000
TZNAME:GMT
END:STANDARD
END:VTIMEZONE
END:VCALENDAR