BEGIN:VCALENDAR
VERSION:2.0
PRODID:-//wp-events-plugin.com//7.2.3.1//EN
TZID:Europe/London
X-WR-TIMEZONE:Europe/London
BEGIN:VEVENT
UID:1084@morayroadrunners.com
DTSTART;TZID=Europe/London:20190209T120000
DTEND;TZID=Europe/London:20190209T170000
DTSTAMP:20190207T223104Z
URL:https://morayroadrunners.com/events/run-4-it-north-district-cross-coun
 try-league-ross-county-ac/
SUMMARY:Run 4 It North District Cross Country League - Ross County AC
DESCRIPTION:Information\n\nLate minute change\, due to weather conditions.
   This race will now be held in Forres
CATEGORIES:Cross Country
END:VEVENT
BEGIN:VTIMEZONE
TZID:Europe/London
X-LIC-LOCATION:Europe/London
BEGIN:STANDARD
DTSTART:20181028T010000
TZOFFSETFROM:+0100
TZOFFSETTO:+0000
TZNAME:GMT
END:STANDARD
END:VTIMEZONE
END:VCALENDAR