BEGIN:VCALENDAR
VERSION:2.0
PRODID:-//wp-events-plugin.com//7.2.3.1//EN
TZID:Europe/London
X-WR-TIMEZONE:Europe/London
BEGIN:VEVENT
UID:4126@morayroadrunners.com
DTSTART;TZID=Europe/London:20250427T090000
DTEND;TZID=Europe/London:20250427T120000
DTSTAMP:20241216T144141Z
URL:https://morayroadrunners.com/events/scone-palace-trail-runs-5km-10km/
SUMMARY:Scone Palace Trail Runs - 5km & 10km
DESCRIPTION:Information and Entry
CATEGORIES:Trail Running
LOCATION:Scone Palace\, Scone\, Perth\, PH2 6BD\, Scotland
X-APPLE-STRUCTURED-LOCATION;VALUE=URI;X-ADDRESS=Scone\, Perth\, PH2 6BD\, S
 cotland;X-APPLE-RADIUS=100;X-TITLE=Scone Palace:geo:0,0
END:VEVENT
BEGIN:VTIMEZONE
TZID:Europe/London
X-LIC-LOCATION:Europe/London
BEGIN:DAYLIGHT
DTSTART:20250330T020000
TZOFFSETFROM:+0000
TZOFFSETTO:+0100
TZNAME:BST
END:DAYLIGHT
END:VTIMEZONE
END:VCALENDAR