BEGIN:VCALENDAR
VERSION:2.0
PRODID:-//wp-events-plugin.com//7.2.3.1//EN
TZID:Europe/London
X-WR-TIMEZONE:Europe/London
BEGIN:VEVENT
UID:2782@morayroadrunners.com
DTSTART;TZID=Europe/London:20230514T100000
DTEND;TZID=Europe/London:20230514T120000
DTSTAMP:20221207T190916Z
URL:https://morayroadrunners.com/events/scottish-10k-champs-at-babcock-10k
 /
SUMMARY:Scottish 10k Champs – at Babcock 10k
DESCRIPTION:
CATEGORIES:Road Running
LOCATION:Glasgow Green\, Greendyke Street\, Glasgow\, G1 5DB\, Scotland
X-APPLE-STRUCTURED-LOCATION;VALUE=URI;X-ADDRESS=Greendyke Street\, Glasgow\
 , G1 5DB\, Scotland;X-APPLE-RADIUS=100;X-TITLE=Glasgow Green:geo:0,0
END:VEVENT
BEGIN:VTIMEZONE
TZID:Europe/London
X-LIC-LOCATION:Europe/London
BEGIN:DAYLIGHT
DTSTART:20230326T020000
TZOFFSETFROM:+0000
TZOFFSETTO:+0100
TZNAME:BST
END:DAYLIGHT
END:VTIMEZONE
END:VCALENDAR