BEGIN:VCALENDAR
VERSION:2.0
PRODID:-//wp-events-plugin.com//7.2.3.1//EN
TZID:Europe/London
X-WR-TIMEZONE:Europe/London
BEGIN:VEVENT
UID:2781@morayroadrunners.com
DTSTART;TZID=Europe/London;VALUE=DATE:20230505
DTEND;TZID=Europe/London;VALUE=DATE:20230506
DTSTAMP:20221207T190544Z
URL:https://morayroadrunners.com/events/scottish-5k-champs-at-silverknowes
 /
SUMMARY:Scottish 5k Champs – at Silverknowes
DESCRIPTION:Information
CATEGORIES:Road Running
LOCATION:Silverknowes Esplanade Tearoom\, Marine Drive\, Edinburgh\, EH4 5E
 S\, Scotland
GEO:55.9780103;-3.269307900000058
X-APPLE-STRUCTURED-LOCATION;VALUE=URI;X-ADDRESS=Marine Drive\, Edinburgh\, 
 EH4 5ES\, Scotland;X-APPLE-RADIUS=100;X-TITLE=Silverknowes Esplanade Tearo
 om:geo:55.9780103,-3.269307900000058
END:VEVENT
BEGIN:VTIMEZONE
TZID:Europe/London
X-LIC-LOCATION:Europe/London
BEGIN:DAYLIGHT
DTSTART:20230326T020000
TZOFFSETFROM:+0000
TZOFFSETTO:+0100
TZNAME:BST
END:DAYLIGHT
END:VTIMEZONE
END:VCALENDAR