BEGIN:VCALENDAR
VERSION:2.0
PRODID:-//wp-events-plugin.com//7.2.3.1//EN
TZID:Europe/London
X-WR-TIMEZONE:Europe/London
BEGIN:VEVENT
UID:946@morayroadrunners.com
DTSTART;TZID=Europe/London:20180203T120000
DTEND;TZID=Europe/London:20180203T160000
DTSTAMP:20171126T225410Z
URL:https://morayroadrunners.com/events/scottish-masters-cross-country-cha
 mpionship/
SUMMARY:Scottish Masters Cross Country Championship
DESCRIPTION:Information
CATEGORIES:Cross Country
LOCATION:Dean Castle Country Park\, Dean Road\, Kilmarnock\, KA3 1XB\, Scot
 land
GEO:55.6204326;-4.4858807000000525
X-APPLE-STRUCTURED-LOCATION;VALUE=URI;X-ADDRESS=Dean Road\, Kilmarnock\, KA
 3 1XB\, Scotland;X-APPLE-RADIUS=100;X-TITLE=Dean Castle Country Park:geo:5
 5.6204326,-4.4858807000000525
END:VEVENT
BEGIN:VTIMEZONE
TZID:Europe/London
X-LIC-LOCATION:Europe/London
BEGIN:STANDARD
DTSTART:20171029T010000
TZOFFSETFROM:+0100
TZOFFSETTO:+0000
TZNAME:GMT
END:STANDARD
END:VTIMEZONE
END:VCALENDAR