BEGIN:VCALENDAR
VERSION:2.0
PRODID:-//wp-events-plugin.com//7.2.3.1//EN
TZID:Europe/London
X-WR-TIMEZONE:Europe/London
BEGIN:VEVENT
UID:653@morayroadrunners.com
DTSTART;TZID=Europe/London;VALUE=DATE:20170225
DTEND;TZID=Europe/London;VALUE=DATE:20170226
DTSTAMP:20161017T192802Z
URL:https://morayroadrunners.com/events/scottish-xc-championships/
SUMMARY:Scottish XC Championships
DESCRIPTION:Information
CATEGORIES:Cross Country
LOCATION:Callendar Park\, Falkirk\, Falkirk\, FK1 1YR\, Scotland
GEO:55.99443909999999;-3.76725620000002
X-APPLE-STRUCTURED-LOCATION;VALUE=URI;X-ADDRESS=Falkirk\, Falkirk\, FK1 1YR
 \, Scotland;X-APPLE-RADIUS=100;X-TITLE=Callendar Park:geo:55.9944390999999
 9,-3.76725620000002
END:VEVENT
BEGIN:VTIMEZONE
TZID:Europe/London
X-LIC-LOCATION:Europe/London
BEGIN:STANDARD
DTSTART:20161030T010000
TZOFFSETFROM:+0100
TZOFFSETTO:+0000
TZNAME:GMT
END:STANDARD
END:VTIMEZONE
END:VCALENDAR