BEGIN:VCALENDAR
VERSION:2.0
PRODID:-//wp-events-plugin.com//7.2.3.1//EN
TZID:Europe/London
X-WR-TIMEZONE:Europe/London
BEGIN:VEVENT
UID:1250@morayroadrunners.com
DTSTART;TZID=Europe/London:20190901T090000
DTEND;TZID=Europe/London:20190901T170000
DTSTAMP:20190512T170209Z
URL:https://morayroadrunners.com/events/simon-wake-comrie-hills-relay-3/
SUMMARY:Simon Wake Comrie Hills Relay
DESCRIPTION:Information\n\nEntry
CATEGORIES:Hill Races
LOCATION:Laggan Park\, Comrie\, Crieff\, PH6 2EX\, Scotland
GEO:56.37112759999999;-3.982673699999964
X-APPLE-STRUCTURED-LOCATION;VALUE=URI;X-ADDRESS=Comrie\, Crieff\, PH6 2EX\,
  Scotland;X-APPLE-RADIUS=100;X-TITLE=Laggan Park:geo:56.37112759999999,-3.
 982673699999964
END:VEVENT
BEGIN:VTIMEZONE
TZID:Europe/London
X-LIC-LOCATION:Europe/London
BEGIN:DAYLIGHT
DTSTART:20190331T020000
TZOFFSETFROM:+0000
TZOFFSETTO:+0100
TZNAME:BST
END:DAYLIGHT
END:VTIMEZONE
END:VCALENDAR