BEGIN:VCALENDAR
VERSION:2.0
PRODID:-//wp-events-plugin.com//7.2.3.1//EN
TZID:Europe/London
X-WR-TIMEZONE:Europe/London
BEGIN:VEVENT
UID:1241@morayroadrunners.com
DTSTART;TZID=Europe/London:20190810T120000
DTEND;TZID=Europe/London:20190810T160000
DTSTAMP:20190328T222936Z
URL:https://morayroadrunners.com/events/skye-bridge-10k/
SUMMARY:Skye Bridge 10k
DESCRIPTION:Information
CATEGORIES:Road Running
LOCATION:Main Car Park\, Kyleakin\, Kyleakin\, IV41 8PH\, Scotland
X-APPLE-STRUCTURED-LOCATION;VALUE=URI;X-ADDRESS=Kyleakin\, Kyleakin\, IV41 
 8PH\, Scotland;X-APPLE-RADIUS=100;X-TITLE=Main Car Park:geo:0,0
END:VEVENT
BEGIN:VTIMEZONE
TZID:Europe/London
X-LIC-LOCATION:Europe/London
BEGIN:DAYLIGHT
DTSTART:20190331T020000
TZOFFSETFROM:+0000
TZOFFSETTO:+0100
TZNAME:BST
END:DAYLIGHT
END:VTIMEZONE
END:VCALENDAR