BEGIN:VCALENDAR
VERSION:2.0
PRODID:-//wp-events-plugin.com//7.2.3.1//EN
TZID:Europe/London
X-WR-TIMEZONE:Europe/London
BEGIN:VEVENT
UID:962@morayroadrunners.com
DTSTART;TZID=Europe/London;VALUE=DATE:20180526
DTEND;TZID=Europe/London;VALUE=DATE:20180528
DTSTAMP:20171213T230225Z
URL:https://morayroadrunners.com/events/skye-train-ultra/
SUMMARY:Skye Trail Ultra
DESCRIPTION:Information and Entry\n\nEvent Website
CATEGORIES:Ultra Running
LOCATION:Broadford Village Hall\, Main Street\, Broadford\, IV49 9AQ\, Scot
 land
GEO:57.2376196;-5.891305099999954
X-APPLE-STRUCTURED-LOCATION;VALUE=URI;X-ADDRESS=Main Street\, Broadford\, I
 V49 9AQ\, Scotland;X-APPLE-RADIUS=100;X-TITLE=Broadford Village Hall:geo:5
 7.2376196,-5.891305099999954
END:VEVENT
BEGIN:VTIMEZONE
TZID:Europe/London
X-LIC-LOCATION:Europe/London
BEGIN:DAYLIGHT
DTSTART:20180325T020000
TZOFFSETFROM:+0000
TZOFFSETTO:+0100
TZNAME:BST
END:DAYLIGHT
END:VTIMEZONE
END:VCALENDAR