BEGIN:VCALENDAR
VERSION:2.0
PRODID:-//wp-events-plugin.com//7.2.3.1//EN
TZID:Europe/London
X-WR-TIMEZONE:Europe/London
BEGIN:VEVENT
UID:3532@morayroadrunners.com
DTSTART;TZID=Europe/London:20261011T093000
DTEND;TZID=Europe/London:20261011T140000
DTSTAMP:20260103T133432Z
URL:https://morayroadrunners.com/events/speyside-10km-race/
SUMMARY:Skedaddle Speyside 10km Trail Race
DESCRIPTION:Information and Entry\n\n&nbsp\;
CATEGORIES:Trail Running
LOCATION:Archiestown Village Hall\, Moss Street\, Archiestown\, AB37 7QN\, 
 Scotland
X-APPLE-STRUCTURED-LOCATION;VALUE=URI;X-ADDRESS=Moss Street\, Archiestown\,
  AB37 7QN\, Scotland;X-APPLE-RADIUS=100;X-TITLE=Archiestown Village Hall:g
 eo:0,0
END:VEVENT
BEGIN:VTIMEZONE
TZID:Europe/London
X-LIC-LOCATION:Europe/London
BEGIN:DAYLIGHT
DTSTART:20260329T020000
TZOFFSETFROM:+0000
TZOFFSETTO:+0100
TZNAME:BST
END:DAYLIGHT
END:VTIMEZONE
END:VCALENDAR