BEGIN:VCALENDAR
VERSION:2.0
PRODID:-//wp-events-plugin.com//7.2.3.1//EN
TZID:Europe/London
X-WR-TIMEZONE:Europe/London
BEGIN:VEVENT
UID:3530@morayroadrunners.com
DTSTART;TZID=Europe/London;VALUE=DATE:20260815
DTEND;TZID=Europe/London;VALUE=DATE:20260816
DTSTAMP:20251210T214511Z
URL:https://morayroadrunners.com/events/speyside-way-50k-and-100k/
SUMMARY:Speyside Way 50k and 100k
DESCRIPTION:Information
CATEGORIES:Ultra Running
END:VEVENT
BEGIN:VTIMEZONE
TZID:Europe/London
X-LIC-LOCATION:Europe/London
BEGIN:DAYLIGHT
DTSTART:20260329T020000
TZOFFSETFROM:+0000
TZOFFSETTO:+0100
TZNAME:BST
END:DAYLIGHT
END:VTIMEZONE
END:VCALENDAR