BEGIN:VCALENDAR
VERSION:2.0
PRODID:-//wp-events-plugin.com//7.2.3.1//EN
TZID:Europe/London
X-WR-TIMEZONE:Europe/London
BEGIN:VEVENT
UID:717@morayroadrunners.com
DTSTART;TZID=Europe/London:20170819T090000
DTEND;TZID=Europe/London:20170819T170000
DTSTAMP:20170108T175719Z
URL:https://morayroadrunners.com/events/speyside-way-ultra-2/
SUMMARY:Speyside Way Ultra
DESCRIPTION:Information
CATEGORIES:Ultra Running
LOCATION:Buckie Community High School\, West Cathcart Street\, Buckie\, AB5
 6 1QB\, Scotland
GEO:57.67323450000001;-2.970717700000023
X-APPLE-STRUCTURED-LOCATION;VALUE=URI;X-ADDRESS=West Cathcart Street\, Buck
 ie\, AB56 1QB\, Scotland;X-APPLE-RADIUS=100;X-TITLE=Buckie Community High 
 School:geo:57.67323450000001,-2.970717700000023
END:VEVENT
BEGIN:VTIMEZONE
TZID:Europe/London
X-LIC-LOCATION:Europe/London
BEGIN:DAYLIGHT
DTSTART:20170326T020000
TZOFFSETFROM:+0000
TZOFFSETTO:+0100
TZNAME:BST
END:DAYLIGHT
END:VTIMEZONE
END:VCALENDAR