BEGIN:VCALENDAR
VERSION:2.0
PRODID:-//wp-events-plugin.com//7.2.3.1//EN
TZID:Europe/London
X-WR-TIMEZONE:Europe/London
BEGIN:VEVENT
UID:1248@morayroadrunners.com
DTSTART;TZID=Europe/London:20190824T063000
DTEND;TZID=Europe/London:20190824T160000
DTSTAMP:20190503T164152Z
URL:https://morayroadrunners.com/events/speyside-way-ultra-4/
SUMMARY:Speyside Way Ultra
DESCRIPTION:Information and Entry
CATEGORIES:Ultra Running
LOCATION:Buckie Swimming Pool & Fitness Centre\, South Pringle Street\, Buc
 kie\, AB56 1PX\, Scotland
GEO:57.6741695;-2.9688691000000063
X-APPLE-STRUCTURED-LOCATION;VALUE=URI;X-ADDRESS=South Pringle Street\, Buck
 ie\, AB56 1PX\, Scotland;X-APPLE-RADIUS=100;X-TITLE=Buckie Swimming Pool &
  Fitness Centre:geo:57.6741695,-2.9688691000000063
END:VEVENT
BEGIN:VTIMEZONE
TZID:Europe/London
X-LIC-LOCATION:Europe/London
BEGIN:DAYLIGHT
DTSTART:20190331T020000
TZOFFSETFROM:+0000
TZOFFSETTO:+0100
TZNAME:BST
END:DAYLIGHT
END:VTIMEZONE
END:VCALENDAR