BEGIN:VCALENDAR
VERSION:2.0
PRODID:-//wp-events-plugin.com//7.2.3.1//EN
TZID:Europe/London
X-WR-TIMEZONE:Europe/London
BEGIN:VEVENT
UID:1464@morayroadrunners.com
DTSTART;TZID=Europe/London:20240707T090000
DTEND;TZID=Europe/London:20240707T153000
DTSTAMP:20240314T075519Z
URL:https://morayroadrunners.com/events/stonehaven-half-marathon-4/
SUMMARY:Stonehaven Half Marathon
DESCRIPTION:Information and Entry
CATEGORIES:Road Running
LOCATION:The McRobert Pavilion\, Mineralwell Park\, Stonehaven\, AB39 3XY\,
  Scotland
X-APPLE-STRUCTURED-LOCATION;VALUE=URI;X-ADDRESS=Mineralwell Park\, Stonehav
 en\, AB39 3XY\, Scotland;X-APPLE-RADIUS=100;X-TITLE=The McRobert Pavilion:
 geo:0,0
END:VEVENT
BEGIN:VTIMEZONE
TZID:Europe/London
X-LIC-LOCATION:Europe/London
BEGIN:DAYLIGHT
DTSTART:20240331T020000
TZOFFSETFROM:+0000
TZOFFSETTO:+0100
TZNAME:BST
END:DAYLIGHT
END:VTIMEZONE
END:VCALENDAR